BEGIN:VCALENDAR
VERSION:2.0
PRODID:-//Sabre//Sabre VObject 3.5.3//EN
CALSCALE:GREGORIAN
BEGIN:VTIMEZONE
TZID:Europe/London
BEGIN:STANDARD
TZNAME:GMT
DTSTART:19701025T020000
RRULE:FREQ=YEARLY;BYMONTH=10;BYDAY=-1SU
TZOFFSETFROM:+0100
TZOFFSETTO:+0000
END:STANDARD
BEGIN:DAYLIGHT
TZNAME:BST
DTSTART:19700329T010000
RRULE:FREQ=YEARLY;BYMONTH=3;BYDAY=-1SU
TZOFFSETFROM:+0000
TZOFFSETTO:+0100
END:DAYLIGHT
END:VTIMEZONE
BEGIN:VEVENT
UID:event_203547@redlandgreenchoir.org.uk
DTSTART;TZID=Europe/London:20260627T193000
DTEND;TZID=Europe/London:20260627T213000
SUMMARY:Summer concert
DESCRIPTION:Mozart: Requiem\, with Long Ashton Orchestra\n\n\nFor full even
 t details\, visit: https://www.redlandgreenchoir.org.uk/dbpage.php?pg=view
 &dbase=events&id=203547
LOCATION:St Alban's Church\, Bayswater Ave\, Redland\, Bristol BS6 7NS\, 
URL:https://www.redlandgreenchoir.org.uk/dbpage.php?pg=view&dbase=events&id
 =203547
END:VEVENT
END:VCALENDAR
